BEGIN:VCALENDAR
VERSION:2.0
PRODID:-//SoundGirls.org - ECPv6.15.17.1//NONSGML v1.0//EN
CALSCALE:GREGORIAN
METHOD:PUBLISH
X-WR-CALNAME:SoundGirls.org
X-ORIGINAL-URL:https://soundgirls.org
X-WR-CALDESC:Events for SoundGirls.org
REFRESH-INTERVAL;VALUE=DURATION:PT1H
X-Robots-Tag:noindex
X-PUBLISHED-TTL:PT1H
BEGIN:VTIMEZONE
TZID:America/Los_Angeles
BEGIN:DAYLIGHT
TZOFFSETFROM:-0800
TZOFFSETTO:-0700
TZNAME:PDT
DTSTART:20200308T100000
END:DAYLIGHT
BEGIN:STANDARD
TZOFFSETFROM:-0700
TZOFFSETTO:-0800
TZNAME:PST
DTSTART:20201101T090000
END:STANDARD
BEGIN:DAYLIGHT
TZOFFSETFROM:-0800
TZOFFSETTO:-0700
TZNAME:PDT
DTSTART:20210314T100000
END:DAYLIGHT
BEGIN:STANDARD
TZOFFSETFROM:-0700
TZOFFSETTO:-0800
TZNAME:PST
DTSTART:20211107T090000
END:STANDARD
BEGIN:DAYLIGHT
TZOFFSETFROM:-0800
TZOFFSETTO:-0700
TZNAME:PDT
DTSTART:20220313T100000
END:DAYLIGHT
BEGIN:STANDARD
TZOFFSETFROM:-0700
TZOFFSETTO:-0800
TZNAME:PST
DTSTART:20221106T090000
END:STANDARD
END:VTIMEZONE
BEGIN:VEVENT
DTSTART;VALUE=DATE:20211204
DTEND;VALUE=DATE:20211206
DTSTAMP:20260424T160026
CREATED:20210822T160551Z
LAST-MODIFIED:20211115T164120Z
UID:46093-1638576000-1638748799@soundgirls.org
SUMMARY:SoundGirls Virtual Conference
DESCRIPTION:Registration is now open\nEducating and Inspiring the Next Generation in Audio\nTwo Days of Sessions in Post-Production\, Live Sound\, Recording Arts\, Film & TV Sound\, Broadcast\, and More.\nPlenty of Networking and Mentoring Opportunities\nAll Attendees will receive a link to archived videos of all the sessions to watch on-demand.\nIf you need financial assistance let us know at soundgirls@soundgirls.org\n\nView Full Schedule Here\n\n  \n\n\n\nHeadline Sponsors\n \nCorporate Sponsors\n  \n \n  \n\n\n\n\nEvent Supporters\n\n \n \nSupporters\n  \n\n\n\n  \n\n\n  \n  \n\n\n\n\n  \n\n\n  \n\n\n  \n\n\n\n\n  \n  \n\n\n  \n\n\n\n\n  \n\n\n  \n\n\n  \n\n\n  \n\n\n\n\n\n\n\n\n\n 
URL:https://soundgirls.org/event/soundgirls-virtual-conference/
LOCATION:Virtual\, United States
CATEGORIES:Education and Training,SoundGirls.org Meetups
ORGANIZER;CN="SoundGirls":MAILTO:soundgirls@soundgirls.org
END:VEVENT
END:VCALENDAR