BEGIN:VCALENDAR
VERSION:2.0
PRODID:-//SoundGirls.org - ECPv6.15.17.1//NONSGML v1.0//EN
CALSCALE:GREGORIAN
METHOD:PUBLISH
X-WR-CALNAME:SoundGirls.org
X-ORIGINAL-URL:https://soundgirls.org
X-WR-CALDESC:Events for SoundGirls.org
REFRESH-INTERVAL;VALUE=DURATION:PT1H
X-Robots-Tag:noindex
X-PUBLISHED-TTL:PT1H
BEGIN:VTIMEZONE
TZID:America/Los_Angeles
BEGIN:DAYLIGHT
TZOFFSETFROM:-0800
TZOFFSETTO:-0700
TZNAME:PDT
DTSTART:20190310T100000
END:DAYLIGHT
BEGIN:STANDARD
TZOFFSETFROM:-0700
TZOFFSETTO:-0800
TZNAME:PST
DTSTART:20191103T090000
END:STANDARD
BEGIN:DAYLIGHT
TZOFFSETFROM:-0800
TZOFFSETTO:-0700
TZNAME:PDT
DTSTART:20200308T100000
END:DAYLIGHT
BEGIN:STANDARD
TZOFFSETFROM:-0700
TZOFFSETTO:-0800
TZNAME:PST
DTSTART:20201101T090000
END:STANDARD
BEGIN:DAYLIGHT
TZOFFSETFROM:-0800
TZOFFSETTO:-0700
TZNAME:PDT
DTSTART:20210314T100000
END:DAYLIGHT
BEGIN:STANDARD
TZOFFSETFROM:-0700
TZOFFSETTO:-0800
TZNAME:PST
DTSTART:20211107T090000
END:STANDARD
END:VTIMEZONE
BEGIN:VTIMEZONE
TZID:America/New_York
BEGIN:DAYLIGHT
TZOFFSETFROM:-0500
TZOFFSETTO:-0400
TZNAME:EDT
DTSTART:20190310T070000
END:DAYLIGHT
BEGIN:STANDARD
TZOFFSETFROM:-0400
TZOFFSETTO:-0500
TZNAME:EST
DTSTART:20191103T060000
END:STANDARD
BEGIN:DAYLIGHT
TZOFFSETFROM:-0500
TZOFFSETTO:-0400
TZNAME:EDT
DTSTART:20200308T070000
END:DAYLIGHT
BEGIN:STANDARD
TZOFFSETFROM:-0400
TZOFFSETTO:-0500
TZNAME:EST
DTSTART:20201101T060000
END:STANDARD
BEGIN:DAYLIGHT
TZOFFSETFROM:-0500
TZOFFSETTO:-0400
TZNAME:EDT
DTSTART:20210314T070000
END:DAYLIGHT
BEGIN:STANDARD
TZOFFSETFROM:-0400
TZOFFSETTO:-0500
TZNAME:EST
DTSTART:20211107T060000
END:STANDARD
END:VTIMEZONE
BEGIN:VEVENT
DTSTART;TZID=America/Los_Angeles:20200903T130000
DTEND;TZID=America/Los_Angeles:20200903T150000
DTSTAMP:20260425T090719
CREATED:20200820T160237Z
LAST-MODIFIED:20200825T214507Z
UID:40747-1599138000-1599145200@soundgirls.org
SUMMARY:Sennheiser - RF Fundamentals Webinar
DESCRIPTION:RF Fundamentals \nThom Salisbury of Sennheiser will review the recent FCC changes\, explore RF theory Waves\, propagation\, intermodulation\, types of modulation\, and more. Then we will take a look at frequency coordination strategies\, and rules of thumb for system design. \nTime: Sep 3\, 2020 01:00 PM Pacific Time (US and Canada) \nJoin Zoom Meeting \nhttps://us02web.zoom.us/j/81064478440?pwd=RXM2ZWFBVkFieFFCSVhyQktZaGUvdz09 \nMeeting ID: 810 6447 8440 \nPasscode: 588352
URL:https://soundgirls.org/event/sennheiser-rf-fundamentals-webinar/
LOCATION:Online via Zoom
CATEGORIES:Education and Training
ATTACH;FMTTYPE=image/webp:https://soundgirls.org/wp-content/uploads/2020/08/auto.webp
END:VEVENT
BEGIN:VEVENT
DTSTART;VALUE=DATE:20200908
DTEND;VALUE=DATE:20200910
DTSTAMP:20260425T090719
CREATED:20200128T025329Z
LAST-MODIFIED:20200128T025329Z
UID:37218-1599523200-1599695999@soundgirls.org
SUMMARY:Adamson Advanced Certification (2 Day) Paris\, France
DESCRIPTION:Adamson will be holding a 2 Day Advanced Certification course in partnership with DV2 in Paris\, September 8th & 9th. \nAdvanced Certification is designed to expand the knowledge needed to properly design\, deploy and control large and/or complex Adamson loudspeaker system\, focusing on in-depth Blueprint AV™ techniques as well as streamlined work flow for E-Series and S-Series systems. \nOver 2 days\, attendees will have the opportunity to expand on their existing knowledge and experience to deploy an Adamson System and gain a deeper understanding of the technology that provides the backbone for these systems. \nTopics covered will include: \n\nProduct overview\nVenue measurement\nSystem design\nSystem preparation\nSystem deployment\nTuning and alignment\n\nAttendees interested in taking this course must have completed Applied Certification as a pre-requisite. \nGet a head start with the pre-training material including the Education Series Videos\, User Handbooks and sign up for a copy of Blueprint AV™ \nFor more information and to sign up contact education.emea@adamsonsystems.com
URL:https://soundgirls.org/event/adamson-advanced-certification-2-day-paris-france-4/
CATEGORIES:Education and Training
END:VEVENT
BEGIN:VEVENT
DTSTART;TZID=America/Los_Angeles:20200912T120000
DTEND;TZID=America/Los_Angeles:20200912T140000
DTSTAMP:20260425T090719
CREATED:20200819T145325Z
LAST-MODIFIED:20200819T145325Z
UID:40729-1599912000-1599919200@soundgirls.org
SUMMARY:Reimagining our Industry – Webinar
DESCRIPTION:Reimagining our Industry – Webinar\n\nThanks to COVID-19 we are all now unwilling participants in a seismic experiment that is shaking the foundations of society\, technology\, economics\, healthcare and our Industry. SoundGirls and ProSoundWeb are pondering how we might reimagine our industry. \nAs we move from survival to adjustment\, from chaos to catalyst\, the next normal (or abnormal) is being shaped right now. \nCOVID-19 and protests happening throughout the world have unmasked our current systems  – the fragility of business and society\, the consequences of urbanization and globalization\, and our dependence on technology and healthcare. Activities in which consumers are likely to change behavior most are in travel\, shopping\, socializing\, and live events. \nWe are faced with a choice to rebuild the world as it was or to realize the possibilities before us. Join a panel of industry veterans in a conversation about shaping the future of the pro audio industry. \nSept. 12 at 12:00 PM PST\nRegister Here\nModerator\n Samantha Potter is an audio engineer and an editor for ProSoundWeb with a passion for writing and educating. Additionally\, she serves as the “Install Empress” for Allen & Heath USA\, helping to merge the live sound solutions we all love into the commercial and install space.\nGrowing up as a musician\, Samantha found her way to live sound by way of the studio\, proving that bassists make the best sound engineers. The host of Church Sound Podcast and a co-director and leader instructor for Church Sound University\, Samantha can often be found teaching\, writing\, and hosting discussions on various live-sound topics. \n\nPanelist Include\nAlesia Hendley is an Audiovisual professional that found her passion at a young age as a sound engineer within her Father’s church. Now you can find her making connections within AV\, Digital Signage and IT\, along with executing creative ventures. As a young professional she’s finding ways to bring AV technologies\, and creative visions together in the effort to leave her mark by making an impact. \n  \n  \nJeri Palumbo has been a broadcast audio mixer and specialist for the past 27 years in Sports and Entertainment. Prior to her work in broadcast\, she spent years as a trained musician and arranger on the music side of the business before going into post-production and eventually live broadcast. With a current focus on live remote broadcast events\, Jeri’s work has included the NFL\, NBA\, MLB\, NHL\, NASCAR\, Super Bowl\, World Series\, Stanley Cups\, the Oscars and more. Entertainment shows have included The Tonight Show with Jay Leno\, Conan O’Brien and American Idol to name a few. She also won a Telly Award for mixing the live bluegrass show “Songs of the Mountains.”Jeri has worn the hats of broadcast engineer/mixer\, field audio\, RF tech and communications and most recently broadcast A1 mixer for gaming eSports in immersive surround 5.1. Jeri served on the RF Coordination committee for the NFL\, NBA All-Stars and serves in the same capacity for the Rose Bowl every year. Jeri also worked on the NFL’s Enhanced Audio team (sounds from the field) on its debut roll-out. \n  \nBill Reeves has been working in the concert production industry for over 40 years. Starting out on the lighting crew. He graduated to LD/Production Manager within a couple of years and has been working exclusively as a Production/Tour Manager for better than 30 years. Highlights Luther Vandross (14 years)\, Prince (3 tours including Purple Rain)\, Stevie Wonder\, Anita Baker\, Maxwell\, D’Angelo\, Anthony Hamilton (14 years up to present). \nBill is also the co-founder along with Lance Jackson of Roadies of Color United. \n  \nCarlos Mosquera\, born in Venezuela\, has been passionate about music from a young age. Through Venezuela’s National System of Youth and Children’s Orchestras and Choirs called “El Sistema\,” a music education program that reaches 400\,000 children\, Carlos received his Bachelor in Music. After playing with Symphonic Orchestras and ensembles around the world\, he then graduated with a B.A. in Sound Technology from the Liverpool Institute for Performing Arts (LIPA) in the U.K. After graduating\, \nCarlos has become immersed in music and sound technologies. He has been a Recording/Mixing Engineer for organizations like the L.A. Philharmonic\, The Colburn School of Music in Los Angeles\, The Herb Albert School of Music at UCLA\, and L-ISA Applications Engineer and developer for L-Acoustics’ new immersive audio technology. As an L-ISA Engineer\, he has worked on numerous major shows such as Lorde\, Lady Gaga\, Childish Gambino\, Alt-J\, LA Philharmonic\, Deadmau5\, Aerosmith\, Bon Iver\, Sleeping Beauty Dreams\, Cages\, among others. \nOn his own time\, he developed a positional app for the visually impaired called “Guiding Sounds”\, using inaudible impulses reproduced by speakers. It’s an accessible\, scalable\, and cost-efficient solution that allows blind individuals to access real-time information of their location\, enabling them to find exactly where they are\, and how to interact with the world in a whole new way\, no internet required. Carlos’s passion for music\, sound\, mixing\, and coding extends beyond his professional career \nSIDNEY WILSON 40+ years in the professional audio industry\, Sidney’s experience includes a multitude of positions from touring as a front of house engineer\, monitor engineer and systems engineer. He also has had stints in the nuclear power industry\, MRI (Super Conducting Magnets) industry\, working on Particle Accelerators at Lawrence Berkeley Laboratory and teaching audio electronics. In addition\, he has experience in design and building of recording studios. He decided to spread his wings into commercial real estate sales and analysis of 200+ apartment complexes\, including real estate development projects and single tenant net lease properties nationwide. \nHowever\, his heart is in Audio and the last 10 years have been focused on high‐end professional digital console rentals\, sales and service as Operations Manager at Hi‐Tech Audio\, Inc.\, and starting a small company (Erevu Group) specializing in noise measurement\, analysis\, and solutions for large outdoor concerts and events.
URL:https://soundgirls.org/event/reimagining-our-industry-webinar/
LOCATION:Online via Zoom
CATEGORIES:Education and Training,SoundGirls.org Meetups
ORGANIZER;CN="SoundGirls":MAILTO:soundgirls@soundgirls.org
END:VEVENT
BEGIN:VEVENT
DTSTART;VALUE=DATE:20200922
DTEND;VALUE=DATE:20200924
DTSTAMP:20260425T090719
CREATED:20200128T025452Z
LAST-MODIFIED:20200128T025452Z
UID:37220-1600732800-1600905599@soundgirls.org
SUMMARY:Adamson Applied Certification (2 Day) Paris\, France
DESCRIPTION:Adamson will be holding the 2 Day Applied Certification course in partnership with DV2 in Paris\, France. September 22nd & 23rd. \nApplied Certification is designed to instill the basic framework needed to properly design\, deploy and control an Adamson loudspeaker system with a focus on Blueprint AV™ E-Series and S-Series. \nOver 2 days\, attendees will have the opportunity to learn fundamental skills\, as well as tips and tricks to deploy an Adamson System and gain an understanding on the technology that provides the backbone for these systems. \nTopics covered will include: \n\nProduct overview\nVenue measurement\nSystem design\nSystem preparation\nSystem deployment\nTuning and alignment\n\nGet a head start with the pre-training material including the Education Series Videos\, User Handbooks and sign up for a copy of Blueprint AV™ \nFor more information and to sign up contact education.emea@adamsonsystems.com
URL:https://soundgirls.org/event/adamson-applied-certification-2-day-paris-france-3/
CATEGORIES:Education and Training
END:VEVENT
BEGIN:VEVENT
DTSTART;TZID=America/New_York:20200928T180000
DTEND;TZID=America/New_York:20200928T200000
DTSTAMP:20260425T090719
CREATED:20200911T155015Z
LAST-MODIFIED:20200911T181554Z
UID:40922-1601316000-1601323200@soundgirls.org
SUMMARY:Mixing Webinar with Rosana Cabán and Vanessa Silbermann
DESCRIPTION:Join SoundGirls & Female Frequency for a Mixing Webinar with Rosana Cabán. Moderated by Vanessa Silberman. \nLearn helpful tips about mixing\, plugins\, panning\, automation and preparation of files for mastering. \nMonday\, September 28th\n6 pm-8 pm ET \nRegister Here\nRosana Cabán is a Puerto Rican-born\, Brooklyn-based artist and music producer. As the drummer of the band Psychic Twin\, she toured and performed in over 80 rock venues across the US and Canada opening for STRFKR\, LadyHawke\, the Generationals. Her production and mixing work has been released through Polyvinyl\, Shore Dive\, and DEATH BY SHEEP records and heard on podcasts and voice-overs for New York Times-reviewed theater. She was a Marble House Project artist in residency in 2018 and an Ace Hotel AIR in 2017. Rosana is an active member of Tom Tom Magazine’s Braintrust and is a graduate of Columbia University’s Sound Art MFA program. She works out of her recording studio in Greenpoint\, Brooklyn. rosanacaban.com \nVanessa Silberman is an international touring singer\, guitarist and songwriter from Brooklyn\, NY (via Los Angeles\, CA). She is also a record producer\, engineer\, an independent A&R and runs an artist development Label called A Diamond Heart Production. \nVanessa’s live shows and music has been compared to the raw bare bones rock ‘n roll of Nirvana along with the appeal of Liz Phair and Chrissie Hynde\, the authenticity of classic artists such as Patti Smith and Neil Young mixed with the pop sensibilities of commercial radio artists such as Green Day and Metric. \nWidely known for having a very strong DIY ethic and wearing many different hats in the music business —Vanessa has worked for heavy hitter’s in the music business such as Producer / Songwriter Dr.Luke as well as for many companies and places ranging from the Foo Fighter’s Studio 606 to Epitaph Records.\nvanessasilbermanofficial.com\nadiamondheartproduction.com \nFemale Frequency\nFemale Frequency is a community dedicated to empowering female\, transgender & non-binary artists through the creation of music that is entirely female generated. \nThe first Female Frequency EP made entirely by women is available here–>\nfemalefrequency.bandcamp.com\nfemalefrequency.com
URL:https://soundgirls.org/event/mixing-webinar-with-rosana-caban/
LOCATION:Online via Zoom
CATEGORIES:SoundGirls.org Meetups
ORGANIZER;CN="Dani Mari":MAILTO:soundgirls@soundgirls.org
END:VEVENT
END:VCALENDAR