BEGIN:VCALENDAR
VERSION:2.0
PRODID:-//SoundGirls.org - ECPv6.15.17.1//NONSGML v1.0//EN
CALSCALE:GREGORIAN
METHOD:PUBLISH
X-WR-CALNAME:SoundGirls.org
X-ORIGINAL-URL:https://soundgirls.org
X-WR-CALDESC:Events for SoundGirls.org
REFRESH-INTERVAL;VALUE=DURATION:PT1H
X-Robots-Tag:noindex
X-PUBLISHED-TTL:PT1H
BEGIN:VTIMEZONE
TZID:America/Los_Angeles
BEGIN:DAYLIGHT
TZOFFSETFROM:-0800
TZOFFSETTO:-0700
TZNAME:PDT
DTSTART:20200308T100000
END:DAYLIGHT
BEGIN:STANDARD
TZOFFSETFROM:-0700
TZOFFSETTO:-0800
TZNAME:PST
DTSTART:20201101T090000
END:STANDARD
BEGIN:DAYLIGHT
TZOFFSETFROM:-0800
TZOFFSETTO:-0700
TZNAME:PDT
DTSTART:20210314T100000
END:DAYLIGHT
BEGIN:STANDARD
TZOFFSETFROM:-0700
TZOFFSETTO:-0800
TZNAME:PST
DTSTART:20211107T090000
END:STANDARD
BEGIN:DAYLIGHT
TZOFFSETFROM:-0800
TZOFFSETTO:-0700
TZNAME:PDT
DTSTART:20220313T100000
END:DAYLIGHT
BEGIN:STANDARD
TZOFFSETFROM:-0700
TZOFFSETTO:-0800
TZNAME:PST
DTSTART:20221106T090000
END:STANDARD
END:VTIMEZONE
BEGIN:VEVENT
DTSTART;TZID=America/Los_Angeles:20210504T120000
DTEND;TZID=America/Los_Angeles:20210504T130000
DTSTAMP:20260423T130942
CREATED:20210401T154308Z
LAST-MODIFIED:20210401T154308Z
UID:42423-1620129600-1620133200@soundgirls.org
SUMMARY:Virtual Tour of Telefunken
DESCRIPTION:Telefunken has invited SoundGirls to take a virtual tour of their factory.  \nMay 4th at 12 PM PDT/3 PM EDT.  \n\n\nhttps://emerson.zoom.us/j/91879051765?pwd=NWMyV0RZMTB2SWxsbkoveHZRQXliZz09 \n\n\n 
URL:https://soundgirls.org/event/virtual-tour-of-telefunken/
LOCATION:Online via Zoom
CATEGORIES:Education and Training,SoundGirls.org Meetups
END:VEVENT
END:VCALENDAR