BEGIN:VCALENDAR
VERSION:2.0
PRODID:-//SoundGirls.org - ECPv6.15.17.1//NONSGML v1.0//EN
CALSCALE:GREGORIAN
METHOD:PUBLISH
X-WR-CALNAME:SoundGirls.org
X-ORIGINAL-URL:https://soundgirls.org
X-WR-CALDESC:Events for SoundGirls.org
REFRESH-INTERVAL;VALUE=DURATION:PT1H
X-Robots-Tag:noindex
X-PUBLISHED-TTL:PT1H
BEGIN:VTIMEZONE
TZID:America/New_York
BEGIN:DAYLIGHT
TZOFFSETFROM:-0500
TZOFFSETTO:-0400
TZNAME:EDT
DTSTART:20200308T070000
END:DAYLIGHT
BEGIN:STANDARD
TZOFFSETFROM:-0400
TZOFFSETTO:-0500
TZNAME:EST
DTSTART:20201101T060000
END:STANDARD
BEGIN:DAYLIGHT
TZOFFSETFROM:-0500
TZOFFSETTO:-0400
TZNAME:EDT
DTSTART:20210314T070000
END:DAYLIGHT
BEGIN:STANDARD
TZOFFSETFROM:-0400
TZOFFSETTO:-0500
TZNAME:EST
DTSTART:20211107T060000
END:STANDARD
BEGIN:DAYLIGHT
TZOFFSETFROM:-0500
TZOFFSETTO:-0400
TZNAME:EDT
DTSTART:20220313T070000
END:DAYLIGHT
BEGIN:STANDARD
TZOFFSETFROM:-0400
TZOFFSETTO:-0500
TZNAME:EST
DTSTART:20221106T060000
END:STANDARD
END:VTIMEZONE
BEGIN:VEVENT
DTSTART;TZID=America/New_York:20210401T193000
DTEND;TZID=America/New_York:20210401T213000
DTSTAMP:20260425T200352
CREATED:20210318T151726Z
LAST-MODIFIED:20210318T151726Z
UID:42251-1617305400-1617312600@soundgirls.org
SUMMARY:Toronto SoundGirls Virtual Meeting
DESCRIPTION:Join us on April 1st at 7:30 PM EST for a virtual meeting and chat. \nJoin us on Zoom \nSoundGirls is inviting you to a scheduled Zoom meeting. \nTopic: Toronto SoundGirls Meeting\nTime: Apr 1\, 2021 07:30 PM Eastern Time (US and Canada) \nJoin Zoom Meeting\nhttps://us02web.zoom.us/j/82243367407?pwd=ajh4V2hkOXpCOXU4TTRJRkxqVHY1UT09 \nMeeting ID: 822 4336 7407\nPasscode: 596195\nOne tap mobile\n+16699006833\,\,82243367407#\,\,\,\,*596195# US (San Jose)\n+13462487799\,\,82243367407#\,\,\,\,*596195# US (Houston) \nDial by your location\n+1 669 900 6833 US (San Jose)\n+1 346 248 7799 US (Houston)\n+1 253 215 8782 US (Tacoma)\n+1 646 876 9923 US (New York)\n+1 301 715 8592 US (Washington DC)\n+1 312 626 6799 US (Chicago)\nMeeting ID: 822 4336 7407\nPasscode: 596195\nFind your local number: https://us02web.zoom.us/u/kha5yta9I \n 
URL:https://soundgirls.org/event/toronto-soundgirls-virtual-meeting/
LOCATION:Online via Zoom
CATEGORIES:SoundGirls.org Meetups
END:VEVENT
END:VCALENDAR