BEGIN:VCALENDAR
VERSION:2.0
PRODID:-//SoundGirls.org - ECPv6.15.17.1//NONSGML v1.0//EN
CALSCALE:GREGORIAN
METHOD:PUBLISH
X-WR-CALNAME:SoundGirls.org
X-ORIGINAL-URL:https://soundgirls.org
X-WR-CALDESC:Events for SoundGirls.org
REFRESH-INTERVAL;VALUE=DURATION:PT1H
X-Robots-Tag:noindex
X-PUBLISHED-TTL:PT1H
BEGIN:VTIMEZONE
TZID:America/Los_Angeles
BEGIN:DAYLIGHT
TZOFFSETFROM:-0800
TZOFFSETTO:-0700
TZNAME:PDT
DTSTART:20200308T100000
END:DAYLIGHT
BEGIN:STANDARD
TZOFFSETFROM:-0700
TZOFFSETTO:-0800
TZNAME:PST
DTSTART:20201101T090000
END:STANDARD
BEGIN:DAYLIGHT
TZOFFSETFROM:-0800
TZOFFSETTO:-0700
TZNAME:PDT
DTSTART:20210314T100000
END:DAYLIGHT
BEGIN:STANDARD
TZOFFSETFROM:-0700
TZOFFSETTO:-0800
TZNAME:PST
DTSTART:20211107T090000
END:STANDARD
BEGIN:DAYLIGHT
TZOFFSETFROM:-0800
TZOFFSETTO:-0700
TZNAME:PDT
DTSTART:20220313T100000
END:DAYLIGHT
BEGIN:STANDARD
TZOFFSETFROM:-0700
TZOFFSETTO:-0800
TZNAME:PST
DTSTART:20221106T090000
END:STANDARD
END:VTIMEZONE
BEGIN:VEVENT
DTSTART;TZID=America/Los_Angeles:20210418T120000
DTEND;TZID=America/Los_Angeles:20210418T140000
DTSTAMP:20260423T144236
CREATED:20210222T153458Z
LAST-MODIFIED:20210504T215551Z
UID:41979-1618747200-1618754400@soundgirls.org
SUMMARY:SoundGirls Bi- Weekly Zoom Hangout
DESCRIPTION:SoundGirls Weekly Zoom Hang-Out \nEvery Other Sunday at 1:30 PM PST \nNext Event is May 16th \nMay 16th \nMay 30th \nJoin Zoom Meeting\nhttps://us02web.zoom.us/j/86891536655?pwd=c0VzalExOFcrR3hjUkJLN2JDNEV6Zz09
URL:https://soundgirls.org/event/soundgirls-weekly-zoom-hangout/
LOCATION:Online via Zoom
CATEGORIES:SoundGirls.org Meetups
ORGANIZER;CN="SoundGirls":MAILTO:soundgirls@soundgirls.org
END:VEVENT
END:VCALENDAR