BEGIN:VCALENDAR
VERSION:2.0
PRODID:-//SoundGirls.org - ECPv6.15.17.1//NONSGML v1.0//EN
CALSCALE:GREGORIAN
METHOD:PUBLISH
X-WR-CALNAME:SoundGirls.org
X-ORIGINAL-URL:https://soundgirls.org
X-WR-CALDESC:Events for SoundGirls.org
REFRESH-INTERVAL;VALUE=DURATION:PT1H
X-Robots-Tag:noindex
X-PUBLISHED-TTL:PT1H
BEGIN:VTIMEZONE
TZID:America/Los_Angeles
BEGIN:DAYLIGHT
TZOFFSETFROM:-0800
TZOFFSETTO:-0700
TZNAME:PDT
DTSTART:20200308T100000
END:DAYLIGHT
BEGIN:STANDARD
TZOFFSETFROM:-0700
TZOFFSETTO:-0800
TZNAME:PST
DTSTART:20201101T090000
END:STANDARD
BEGIN:DAYLIGHT
TZOFFSETFROM:-0800
TZOFFSETTO:-0700
TZNAME:PDT
DTSTART:20210314T100000
END:DAYLIGHT
BEGIN:STANDARD
TZOFFSETFROM:-0700
TZOFFSETTO:-0800
TZNAME:PST
DTSTART:20211107T090000
END:STANDARD
BEGIN:DAYLIGHT
TZOFFSETFROM:-0800
TZOFFSETTO:-0700
TZNAME:PDT
DTSTART:20220313T100000
END:DAYLIGHT
BEGIN:STANDARD
TZOFFSETFROM:-0700
TZOFFSETTO:-0800
TZNAME:PST
DTSTART:20221106T090000
END:STANDARD
END:VTIMEZONE
BEGIN:VEVENT
DTSTART;TZID=America/Los_Angeles:20210425T130000
DTEND;TZID=America/Los_Angeles:20210425T150000
DTSTAMP:20260423T144236
CREATED:20210414T163340Z
LAST-MODIFIED:20210414T163340Z
UID:42514-1619355600-1619362800@soundgirls.org
SUMMARY:SoundGirls Montreal Chapter Virtual Meeting
DESCRIPTION:Hola-Bonjour-hello!\nWe were excited for the weather to let us organize park hangouts to get to meet each other\, but… since the pandemy is still raging\, we think it’s best to meet virtually. So let’s hangout! \nLet’s meet our group members\, learn about what brings us here and think of events/socials you’d be interested in. \nJoin Zoom Meeting \nSoundGirls is inviting you to a scheduled Zoom meeting. \nTopic: Montreal Chapter Meeting – Hangout\nTime: Apr 25\, 2021 01:00 PM Pacific Time (US and Canada) \nJoin Zoom Meeting\nhttps://us02web.zoom.us/j/85973323190?pwd=SXl0Tkk0Q2lhNkw0VklIZm42SUhUQT09 \nMeeting ID: 859 7332 3190\nPasscode: 546803\nOne tap mobile\n+16699006833\,\,85973323190#\,\,\,\,*546803# US (San Jose)\n+12532158782\,\,85973323190#\,\,\,\,*546803# US (Tacoma) \nDial by your location\n+1 669 900 6833 US (San Jose)\n+1 253 215 8782 US (Tacoma)\n+1 346 248 7799 US (Houston)\n+1 312 626 6799 US (Chicago)\n+1 646 876 9923 US (New York)\n+1 301 715 8592 US (Washington DC)\nMeeting ID: 859 7332 3190\nPasscode: 546803\nFind your local number: https://us02web.zoom.us/u/kdyEc93OQs \n 
URL:https://soundgirls.org/event/soundgirls-montreal-chapter-virtual-meeting/
LOCATION:Online via Zoom
CATEGORIES:SoundGirls.org Meetups
END:VEVENT
END:VCALENDAR