BEGIN:VCALENDAR
VERSION:2.0
PRODID:-//SoundGirls.org - ECPv6.15.17.1//NONSGML v1.0//EN
CALSCALE:GREGORIAN
METHOD:PUBLISH
X-WR-CALNAME:SoundGirls.org
X-ORIGINAL-URL:https://soundgirls.org
X-WR-CALDESC:Events for SoundGirls.org
REFRESH-INTERVAL;VALUE=DURATION:PT1H
X-Robots-Tag:noindex
X-PUBLISHED-TTL:PT1H
BEGIN:VTIMEZONE
TZID:America/New_York
BEGIN:DAYLIGHT
TZOFFSETFROM:-0500
TZOFFSETTO:-0400
TZNAME:EDT
DTSTART:20190310T070000
END:DAYLIGHT
BEGIN:STANDARD
TZOFFSETFROM:-0400
TZOFFSETTO:-0500
TZNAME:EST
DTSTART:20191103T060000
END:STANDARD
BEGIN:DAYLIGHT
TZOFFSETFROM:-0500
TZOFFSETTO:-0400
TZNAME:EDT
DTSTART:20200308T070000
END:DAYLIGHT
BEGIN:STANDARD
TZOFFSETFROM:-0400
TZOFFSETTO:-0500
TZNAME:EST
DTSTART:20201101T060000
END:STANDARD
BEGIN:DAYLIGHT
TZOFFSETFROM:-0500
TZOFFSETTO:-0400
TZNAME:EDT
DTSTART:20210314T070000
END:DAYLIGHT
BEGIN:STANDARD
TZOFFSETFROM:-0400
TZOFFSETTO:-0500
TZNAME:EST
DTSTART:20211107T060000
END:STANDARD
END:VTIMEZONE
BEGIN:VEVENT
DTSTART;TZID=America/New_York:20201111T190000
DTEND;TZID=America/New_York:20201111T210000
DTSTAMP:20260424T083325
CREATED:20201106T163434Z
LAST-MODIFIED:20201109T134229Z
UID:41206-1605121200-1605128400@soundgirls.org
SUMMARY:Pittsburgh SoundGirls Present a Webinar on Freelancing
DESCRIPTION:Please join our Pittsburgh SoundGirls Chapter for a Freelancing Webinar on Nov. 11th. \nLearn how to manage your finances\, networking and creating your own career. \nModerated by Carolyn Slothour and Laura Moeller \nPanelists Include: \nDevyn Caraballo:  Operates her own sound company & custom cables \nDeborra Peelor: Lighting designer & lighting professor \nAngela Baughman:  Sound designer & engineer \nElizabeth Andrews: Theatrical lighting designer \nNovember 11 at 7 PM EST \n\nRegister Here
URL:https://soundgirls.org/event/pittsburgh-soundgirls-present-a-webinar-on-freelancing-2/
LOCATION:Online Webinar
CATEGORIES:Education and Training
ORGANIZER;CN="Laura Moeller":MAILTO:soundgirls@soundgirls.org
END:VEVENT
END:VCALENDAR