BEGIN:VCALENDAR
VERSION:2.0
PRODID:-//SoundGirls.org - ECPv6.15.17.1//NONSGML v1.0//EN
CALSCALE:GREGORIAN
METHOD:PUBLISH
X-WR-CALNAME:SoundGirls.org
X-ORIGINAL-URL:https://soundgirls.org
X-WR-CALDESC:Events for SoundGirls.org
REFRESH-INTERVAL;VALUE=DURATION:PT1H
X-Robots-Tag:noindex
X-PUBLISHED-TTL:PT1H
BEGIN:VTIMEZONE
TZID:America/Los_Angeles
BEGIN:DAYLIGHT
TZOFFSETFROM:-0800
TZOFFSETTO:-0700
TZNAME:PDT
DTSTART:20200308T100000
END:DAYLIGHT
BEGIN:STANDARD
TZOFFSETFROM:-0700
TZOFFSETTO:-0800
TZNAME:PST
DTSTART:20201101T090000
END:STANDARD
BEGIN:DAYLIGHT
TZOFFSETFROM:-0800
TZOFFSETTO:-0700
TZNAME:PDT
DTSTART:20210314T100000
END:DAYLIGHT
BEGIN:STANDARD
TZOFFSETFROM:-0700
TZOFFSETTO:-0800
TZNAME:PST
DTSTART:20211107T090000
END:STANDARD
BEGIN:DAYLIGHT
TZOFFSETFROM:-0800
TZOFFSETTO:-0700
TZNAME:PDT
DTSTART:20220313T100000
END:DAYLIGHT
BEGIN:STANDARD
TZOFFSETFROM:-0700
TZOFFSETTO:-0800
TZNAME:PST
DTSTART:20221106T090000
END:STANDARD
END:VTIMEZONE
BEGIN:VEVENT
DTSTART;TZID=America/Los_Angeles:20210506T180000
DTEND;TZID=America/Los_Angeles:20210506T200000
DTSTAMP:20260425T194751
CREATED:20210414T160508Z
LAST-MODIFIED:20210421T145609Z
UID:42512-1620324000-1620331200@soundgirls.org
SUMMARY:Mixing with Vanessa Silberman
DESCRIPTION:Mixing tips with Vanessa Silberman presented by SoundGirls\, Female Frequency\, and A Diamond Heart Production \nThursday\, May 6th – 6 PM EDT / 3 PM PDT \nJoin us for this exclusive webinar on mixing tips with Songwriter\, Recording Producer\, Engineer & Label Owner Vanessa Silberman. \nVanessa will walk us through a recording session and give tips on mixing using 2 DAWS: Pro Tools & Logic. You’ll get tips on everything from stemming files to Editing\, EQ\, Compression\, Panning and much more. \nRegister and Post Questions \nAbout Vanessa Silberman:\nVanessa Silberman is an international touring singer\, guitarist and songwriter from Brooklyn\, NY (via Los Angeles\, CA). She is also a record producer\, engineer\, an independent A&R and runs an artist development Label called A Diamond Heart Production. \nAs an artist her music has often been compared to the raw bare bones rock ‘n roll of Nirvana along with the appeal and vocal qualities of Lana Del Ray and authenticity of classic artists such as Patti Smith and Neil Young. But more recently with the release of her latest single ‘My Love’ she’s incorporated more samples\, beats and synths akin to artists such as Chvrches\, Phantogram and Sylvan Esso. \nWidely known for having a very strong DIY ethic and wearing many different hats in the music business —in the past Vanessa has worked for heavy hitter’s in the music business such as Producer / Songwriter Dr. Luke as well as for many companies and places ranging from the Foo Fighter’s Studio 606 to Epitaph Records. Vanessa has also Engineered for everyone from Tony Visconti (David Bowie\, T Rex) to Kimbra & Harper Simon. She is also a Recording Academy Grammy Member\, the co-chair of the New York Chapter of Soundgirls\, an advisor to the Florence Belsky Charitable Foundation and assists California Women’s Music often co-hosting their virtual music festivals. \nvanessasilbermanofficial.com\nadiamondheartproduction.com \nFemale Frequency\nFemale Frequency is a community dedicated to empowering female\, transgender & non-binary artists through the creation of music that is entirely female generated. \nThe first Female Frequency EP made entirely by women is available here–>\nfemalefrequency.bandcamp.com\nfemalefrequency.com
URL:https://soundgirls.org/event/mixing-with-vanessa-silberman/
LOCATION:Online via Zoom
CATEGORIES:Education and Training,SoundGirls.org Meetups
END:VEVENT
END:VCALENDAR