BEGIN:VCALENDAR
VERSION:2.0
PRODID:-//SoundGirls.org - ECPv6.15.17.1//NONSGML v1.0//EN
CALSCALE:GREGORIAN
METHOD:PUBLISH
X-WR-CALNAME:SoundGirls.org
X-ORIGINAL-URL:https://soundgirls.org
X-WR-CALDESC:Events for SoundGirls.org
REFRESH-INTERVAL;VALUE=DURATION:PT1H
X-Robots-Tag:noindex
X-PUBLISHED-TTL:PT1H
BEGIN:VTIMEZONE
TZID:America/Los_Angeles
BEGIN:DAYLIGHT
TZOFFSETFROM:-0800
TZOFFSETTO:-0700
TZNAME:PDT
DTSTART:20200308T100000
END:DAYLIGHT
BEGIN:STANDARD
TZOFFSETFROM:-0700
TZOFFSETTO:-0800
TZNAME:PST
DTSTART:20201101T090000
END:STANDARD
BEGIN:DAYLIGHT
TZOFFSETFROM:-0800
TZOFFSETTO:-0700
TZNAME:PDT
DTSTART:20210314T100000
END:DAYLIGHT
BEGIN:STANDARD
TZOFFSETFROM:-0700
TZOFFSETTO:-0800
TZNAME:PST
DTSTART:20211107T090000
END:STANDARD
BEGIN:DAYLIGHT
TZOFFSETFROM:-0800
TZOFFSETTO:-0700
TZNAME:PDT
DTSTART:20220313T100000
END:DAYLIGHT
BEGIN:STANDARD
TZOFFSETFROM:-0700
TZOFFSETTO:-0800
TZNAME:PST
DTSTART:20221106T090000
END:STANDARD
END:VTIMEZONE
BEGIN:VEVENT
DTSTART;TZID=America/Los_Angeles:20210508T140000
DTEND;TZID=America/Los_Angeles:20210508T163000
DTSTAMP:20260423T144140
CREATED:20210309T214702Z
LAST-MODIFIED:20210423T143625Z
UID:42127-1620482400-1620491400@soundgirls.org
SUMMARY:BIPOC SoundGirls Monthly Zoom
DESCRIPTION:Join our BIPOC SoundGirls the second Saturday of every month for a zoom hang-out.  Come share and discuss anything on your mind. \n2:00 PM PST \nLink to Zoom \nSoundGirls is inviting you to a scheduled Zoom meeting. \nTopic: POC SoundGirls Monthly Zoom\nTime: Mar 13\, 2021 02:00 PM Pacific Time (US and Canada)\nEvery month on the Second Sat\, until Sep 11\, 2021\, 7 occurrence(s) \nMay 8\, 2021 02:00 PM\nJun 12\, 2021 02:00 PM\nJul 10\, 2021 02:00 PM\nAug 14\, 2021 02:00 PM\nSep 11\, 2021 02:00 PM\nPlease download and import the following iCalendar (.ics) files to your calendar system.\nMonthly: https://us02web.zoom.us/meeting/tZwudeuurj4qH9XgcaE7yZDD7Qrpy9TTN5tQ/ics?icsToken=98tyKuGgrTkoHNSQsByGRpw-A4joa-7ziCVfgvplmxzkJndKWCfSYdNQIqsmJOz- \nJoin Zoom Meeting\nhttps://us02web.zoom.us/j/88322605051?pwd=RmxhcmRGSDEvMktSWjkrNHZKTlFGZz09 \nMeeting ID: 883 2260 5051\nPasscode: 732668\nOne tap mobile\n+16699006833\,\,88322605051#\,\,\,\,*732668# US (San Jose)\n+13462487799\,\,88322605051#\,\,\,\,*732668# US (Houston) \nDial by your location\n+1 669 900 6833 US (San Jose)\n+1 346 248 7799 US (Houston)\n+1 253 215 8782 US (Tacoma)\n+1 646 876 9923 US (New York)\n+1 301 715 8592 US (Washington DC)\n+1 312 626 6799 US (Chicago)\nMeeting ID: 883 2260 5051\nPasscode: 732668\nFind your local number: https://us02web.zoom.us/u/kbZoDDW78I \n 
URL:https://soundgirls.org/event/bipoc-soundgirls-monthly-zoom/
LOCATION:Online via Zoom
END:VEVENT
END:VCALENDAR